BEGIN:VCALENDAR
VERSION:2.0
PRODID:-//NTC &#039;72 - ECPv6.15.18//NONSGML v1.0//EN
CALSCALE:GREGORIAN
METHOD:PUBLISH
X-ORIGINAL-URL:https://www.ntc72.nl
X-WR-CALDESC:Evenementen voor NTC &#039;72
REFRESH-INTERVAL;VALUE=DURATION:PT1H
X-Robots-Tag:noindex
X-PUBLISHED-TTL:PT1H
BEGIN:VTIMEZONE
TZID:Europe/Amsterdam
BEGIN:DAYLIGHT
TZOFFSETFROM:+0100
TZOFFSETTO:+0200
TZNAME:CEST
DTSTART:20250330T010000
END:DAYLIGHT
BEGIN:STANDARD
TZOFFSETFROM:+0200
TZOFFSETTO:+0100
TZNAME:CET
DTSTART:20251026T010000
END:STANDARD
BEGIN:DAYLIGHT
TZOFFSETFROM:+0100
TZOFFSETTO:+0200
TZNAME:CEST
DTSTART:20260329T010000
END:DAYLIGHT
BEGIN:STANDARD
TZOFFSETFROM:+0200
TZOFFSETTO:+0100
TZNAME:CET
DTSTART:20261025T010000
END:STANDARD
BEGIN:DAYLIGHT
TZOFFSETFROM:+0100
TZOFFSETTO:+0200
TZNAME:CEST
DTSTART:20270328T010000
END:DAYLIGHT
BEGIN:STANDARD
TZOFFSETFROM:+0200
TZOFFSETTO:+0100
TZNAME:CET
DTSTART:20271031T010000
END:STANDARD
END:VTIMEZONE
BEGIN:VEVENT
DTSTART;VALUE=DATE:20260419
DTEND;VALUE=DATE:20260421
DTSTAMP:20260421T195838
CREATED:20260314T154602Z
LAST-MODIFIED:20260314T163546Z
UID:10000374-1776578400-1776664799@www.ntc72.nl
SUMMARY:KNLTB voorjaar competitie 2026 (Rood\, Oranje\, Groen & Junioren)
DESCRIPTION:Thuis spelen: \n\n\n\n\n\n\n\nGroen 1\nNTC’72 1 – Helios-Heel 1\n10:00\n\n\nJunioren 11 t/m 14 3\nNTC’72 3 – Rulec 1\n10:00\n\n\nJunioren 11 t/m 14 4\nNTC’72 4 – Baexem 1\n10:00
URL:https://www.ntc72.nl/agenda-item/knltb-voorjaar-competitie-2026-rood-oranje-groen-junioren-3/
LOCATION:NTC ’72\, Sportpark De Bengele 9\, Nederweert\, 6031 TZ\, Netherlands
CATEGORIES:Algemeen,Competitie,Jeugd
ATTACH;FMTTYPE=image/jpeg:https://www.ntc72.nl/wp-content/uploads/2025/01/websitebanner-kia-tenniskids-competitie-1920x1080-1.jpg
ORGANIZER;CN="Jeugdcommissie NTC '72":MAILTO:jeugdcommissie@ntc72.nl
END:VEVENT
BEGIN:VEVENT
DTSTART;VALUE=DATE:20260412
DTEND;VALUE=DATE:20260414
DTSTAMP:20260421T195838
CREATED:20260314T154513Z
LAST-MODIFIED:20260314T163551Z
UID:10000373-1775973600-1776059999@www.ntc72.nl
SUMMARY:KNLTB voorjaar competitie 2026 (Rood\, Oranje\, Groen & Junioren)
DESCRIPTION:Thuis spelen: \n\n\n\n\n\n\n\nOranje\n\n9:00\n\n\nGroen 2\nNTC’72 2 – Boshoven 1\n10:00\n\n\nJunioren 11 t/m 14 1\nNTC’72 1 – Rodhe 2\n12:00\n\n\nJunioren 11 t/m 14 2\nNTC’72 2 – Mierlo 3\n12:00
URL:https://www.ntc72.nl/agenda-item/knltb-voorjaar-competitie-2026-rood-oranje-groen-junioren-2/
LOCATION:NTC ’72\, Sportpark De Bengele 9\, Nederweert\, 6031 TZ\, Netherlands
CATEGORIES:Algemeen,Competitie,Jeugd
ATTACH;FMTTYPE=image/jpeg:https://www.ntc72.nl/wp-content/uploads/2025/01/websitebanner-kia-tenniskids-competitie-1920x1080-1.jpg
ORGANIZER;CN="Jeugdcommissie NTC '72":MAILTO:jeugdcommissie@ntc72.nl
END:VEVENT
BEGIN:VEVENT
DTSTART;VALUE=DATE:20260406
DTEND;VALUE=DATE:20260408
DTSTAMP:20260421T195838
CREATED:20260314T153608Z
LAST-MODIFIED:20260314T162503Z
UID:10000372-1775455200-1775541599@www.ntc72.nl
SUMMARY:KNLTB voorjaar competitie 2026 (Rood\, Oranje\, Groen & Junioren)
DESCRIPTION:Thuis spelen: \n\n\n\n\n\n\n\nRood\n\n10:00\n\n\nGroen 1\nNTC’72 1 – ACE 1\n10:00\n\n\nJunioren 11 t/m 14 2\nNTC’72 2 – Venlo 4\n12:00\n\n\nJunioren 11 t/m 14 3\nNTC’72 3 – Venlo 3\n12:00\n\n\nJunioren 11 t/m 14 4\nNTC’72 4 – ACE 1\n12:00
URL:https://www.ntc72.nl/agenda-item/knltb-voorjaar-competitie-2026-rood-oranje-groen-junioren/
LOCATION:NTC ’72\, Sportpark De Bengele 9\, Nederweert\, 6031 TZ\, Netherlands
CATEGORIES:Algemeen,Competitie,Jeugd
ATTACH;FMTTYPE=image/jpeg:https://www.ntc72.nl/wp-content/uploads/2025/01/websitebanner-kia-tenniskids-competitie-1920x1080-1.jpg
ORGANIZER;CN="Jeugdcommissie NTC '72":MAILTO:jeugdcommissie@ntc72.nl
END:VEVENT
BEGIN:VEVENT
DTSTART;VALUE=DATE:20260329
DTEND;VALUE=DATE:20260331
DTSTAMP:20260421T195838
CREATED:20260314T153425Z
LAST-MODIFIED:20260314T162313Z
UID:10000371-1774764000-1774850399@www.ntc72.nl
SUMMARY:KNLTB voorjaar competitie 2026 (Rood & Oranje)
DESCRIPTION:Rood & Oranje spelen beiden uit
URL:https://www.ntc72.nl/agenda-item/knltb-voorjaar-rode-oranje-competitie-2026/
CATEGORIES:Algemeen,Competitie,Jeugd
ATTACH;FMTTYPE=image/jpeg:https://www.ntc72.nl/wp-content/uploads/2025/01/websitebanner-kia-tenniskids-competitie-1920x1080-1.jpg
END:VEVENT
BEGIN:VEVENT
DTSTART;TZID=Europe/Amsterdam:20260227T183000
DTEND;TZID=Europe/Amsterdam:20260227T223000
DTSTAMP:20260421T195838
CREATED:20251007T150507Z
LAST-MODIFIED:20251007T150840Z
UID:10000349-1772217000-1772231400@www.ntc72.nl
SUMMARY:Interne Wintercompetitie '25/'26
DESCRIPTION:
URL:https://www.ntc72.nl/agenda-item/interne-wintercompetitie-25-26/2026-02-27/
LOCATION:NTC ’72\, Sportpark De Bengele 9\, Nederweert\, 6031 TZ\, Netherlands
CATEGORIES:Algemeen,Competitie,Senioren
ATTACH;FMTTYPE=image/jpeg:https://www.ntc72.nl/wp-content/uploads/2025/10/Interne-wintercompetitie25-26.jpg
END:VEVENT
BEGIN:VEVENT
DTSTART;TZID=Europe/Amsterdam:20260206T190000
DTEND;TZID=Europe/Amsterdam:20260206T220000
DTSTAMP:20260421T195838
CREATED:20251111T202154Z
LAST-MODIFIED:20251111T202154Z
UID:10000357-1770404400-1770415200@www.ntc72.nl
SUMMARY:Weerterland Juniorsclub
DESCRIPTION:Voor alle jeugdleden van de Weerterland Tennis & Padel verenigingen. ( en jeugdspelers in de buurt van (Neder)Weert. \nElke twee weken op vrijdagavond: samen eten\, daarna banen op voor racketplezier\, en afsluiten met een drankje aan de bar. Een gave start van je weekend in de winterperiode! \nHoe ziet de avond eruit? \n\n19:00 uur: Gezamenlijk eten (wisselende gerechten: friet met snack\, pizza\, pannenkoeken\, stamppot met (vega) rookworst)\, spagetti\, etc. We houden rekening met dieetwensen: glutenallergie\, halal\, vega\, vegan etc\n±19:30 – 21:45 uur: Speelplezier: tennis & padel met en tegen andere juniors\n21:45 – 22:00 uur: Afsluiting: bar met non‑alcoholisch drankje\n\nData van de clubavonden: \n\n21 november 2025\n12 december 2025\n19 december 2025\n9 januari 2026\n23 januari 2026\n6 februari 2026\n\nDe exacte locatie (welke vereniging) wordt steeds vooraf bekendgemaakt. \nKosten:\n€5 per avond – inclusief maaltijd\, ranja en het spelen van de wedstrijden. \nAanmelden:\nVia het inschrijfformulier. Je hoeft niet aan de hele reeks mee te doen\, dus inschrijven per vrijdag is mogelijk.\nInschrijven klik hier \nWaarom meedoen? \n\nOntmoet jeugdleden van andere clubs\nSpeel leuke wedstrijden\nGeniet van lekker eten + gezellige sfeer\nPerfecte start van je weekend!\n\nTot snel bij de eerste volgende editie van de Weerterland Juniorsclub!
URL:https://www.ntc72.nl/agenda-item/weerterland-juniorsclub/2026-02-06/
CATEGORIES:Jeugd
ATTACH;FMTTYPE=image/jpeg:https://www.ntc72.nl/wp-content/uploads/2025/11/Weerterland-Juniorsclub.jpg
END:VEVENT
BEGIN:VEVENT
DTSTART;TZID=Europe/Amsterdam:20260201T093000
DTEND;TZID=Europe/Amsterdam:20260201T113000
DTSTAMP:20260421T195838
CREATED:20251123T090704Z
LAST-MODIFIED:20251123T090743Z
UID:10000368-1769938200-1769945400@www.ntc72.nl
SUMMARY:Weerterland Tennis Circuit Jeugd - TPC Boshoven
DESCRIPTION:Ook deze winter organiseren de (Neder)Weerter verenigingen in samenwerking met Lokaal Sportakkoord Weert weer het Winter Tennis Circuit Jeugd in de maanden november\, december 2025 en januari en februari 2026 . \nEen leuke ochtend met verschillende tennisonderdelen\, tennisspelletjes en wedstrijdjes in allerlei vormen. Er is weer een verdeling tussen Rood/Oranje en Groen gemaakt. Voor de junioren zijn we naar iets anders aan het kijken. \nDe verdeling is als volgt: \n\n23 november 2025 – NTC ’72\n14 december 2025 – TC Weert-Oost\n11 januari 2026 – LTV De Grensmeppers\n1 februari 2026 – TPC Boshoven
URL:https://www.ntc72.nl/agenda-item/weerterland-tennis-circuit-jeugd-tpc-boshoven/
CATEGORIES:Jeugd,Toernooi
ATTACH;FMTTYPE=image/jpeg:https://www.ntc72.nl/wp-content/uploads/2024/10/WTJC.jpg
END:VEVENT
BEGIN:VEVENT
DTSTART;TZID=Europe/Amsterdam:20260130T183000
DTEND;TZID=Europe/Amsterdam:20260130T223000
DTSTAMP:20260421T195838
CREATED:20251007T150507Z
LAST-MODIFIED:20251007T150840Z
UID:10000348-1769797800-1769812200@www.ntc72.nl
SUMMARY:Interne Wintercompetitie '25/'26
DESCRIPTION:
URL:https://www.ntc72.nl/agenda-item/interne-wintercompetitie-25-26/2026-01-30/
LOCATION:NTC ’72\, Sportpark De Bengele 9\, Nederweert\, 6031 TZ\, Netherlands
CATEGORIES:Algemeen,Competitie,Senioren
ATTACH;FMTTYPE=image/jpeg:https://www.ntc72.nl/wp-content/uploads/2025/10/Interne-wintercompetitie25-26.jpg
END:VEVENT
BEGIN:VEVENT
DTSTART;TZID=Europe/Amsterdam:20260123T190000
DTEND;TZID=Europe/Amsterdam:20260123T220000
DTSTAMP:20260421T195838
CREATED:20251111T202154Z
LAST-MODIFIED:20251111T202154Z
UID:10000356-1769194800-1769205600@www.ntc72.nl
SUMMARY:Weerterland Juniorsclub
DESCRIPTION:Voor alle jeugdleden van de Weerterland Tennis & Padel verenigingen. ( en jeugdspelers in de buurt van (Neder)Weert. \nElke twee weken op vrijdagavond: samen eten\, daarna banen op voor racketplezier\, en afsluiten met een drankje aan de bar. Een gave start van je weekend in de winterperiode! \nHoe ziet de avond eruit? \n\n19:00 uur: Gezamenlijk eten (wisselende gerechten: friet met snack\, pizza\, pannenkoeken\, stamppot met (vega) rookworst)\, spagetti\, etc. We houden rekening met dieetwensen: glutenallergie\, halal\, vega\, vegan etc\n±19:30 – 21:45 uur: Speelplezier: tennis & padel met en tegen andere juniors\n21:45 – 22:00 uur: Afsluiting: bar met non‑alcoholisch drankje\n\nData van de clubavonden: \n\n21 november 2025\n12 december 2025\n19 december 2025\n9 januari 2026\n23 januari 2026\n6 februari 2026\n\nDe exacte locatie (welke vereniging) wordt steeds vooraf bekendgemaakt. \nKosten:\n€5 per avond – inclusief maaltijd\, ranja en het spelen van de wedstrijden. \nAanmelden:\nVia het inschrijfformulier. Je hoeft niet aan de hele reeks mee te doen\, dus inschrijven per vrijdag is mogelijk.\nInschrijven klik hier \nWaarom meedoen? \n\nOntmoet jeugdleden van andere clubs\nSpeel leuke wedstrijden\nGeniet van lekker eten + gezellige sfeer\nPerfecte start van je weekend!\n\nTot snel bij de eerste volgende editie van de Weerterland Juniorsclub!
URL:https://www.ntc72.nl/agenda-item/weerterland-juniorsclub/2026-01-23/
CATEGORIES:Jeugd
ATTACH;FMTTYPE=image/jpeg:https://www.ntc72.nl/wp-content/uploads/2025/11/Weerterland-Juniorsclub.jpg
END:VEVENT
END:VCALENDAR